BEGIN:VCALENDAR
VERSION:2.0
PRODID:-//Insurance AMS, Elearning, Salesforce, Web and Mobile Apps Development - ECPv6.0.10//NONSGML v1.0//EN
CALSCALE:GREGORIAN
METHOD:PUBLISH
X-ORIGINAL-URL:https://webnersolutions.webnerserver.com
X-WR-CALDESC:Events for Insurance AMS, Elearning, Salesforce, Web and Mobile Apps Development
REFRESH-INTERVAL;VALUE=DURATION:PT1H
X-Robots-Tag:noindex
X-PUBLISHED-TTL:PT1H
BEGIN:VTIMEZONE
TZID:UTC
BEGIN:STANDARD
TZOFFSETFROM:+0000
TZOFFSETTO:+0000
TZNAME:UTC
DTSTART:20240101T000000
END:STANDARD
END:VTIMEZONE
BEGIN:VEVENT
DTSTART;VALUE=DATE:20240826
DTEND;VALUE=DATE:20240827
DTSTAMP:20260422T102637
CREATED:20220105T121759Z
LAST-MODIFIED:20231130T123152Z
UID:3444-1724630400-1724716799@webnersolutions.webnerserver.com
SUMMARY:Janmashtami
DESCRIPTION:Janmashtami – Krishna Janmashtami\, also known simply as Janmashtami or Gokulashtami\, is an annual Hindu festival that celebrates the birth of Krishna\, the eighth avatar of Lord Vishnu. According to the Hindu lunisolar calendar\, it is observed on the eighth tithi of the Krishna Paksha in Bhadrapada Masa.
URL:https://webnersolutions.webnerserver.com/festival-holidays/august-holidays-2/
CATEGORIES:Holiday 2024
ATTACH;FMTTYPE=image/png:https://webnersolutions.webnerserver.com/wp-content/uploads/2022/01/august.png
END:VEVENT
END:VCALENDAR